BEGIN:VCALENDAR
X-LOTUS-CHARSET:UTF-8
VERSION:2.0
PRODID:-//unihamburg/mundry
METHOD:PUBLISH
BEGIN:VTIMEZONE
TZID:Europe/Berlin
X-LIC-LOCATION:Europe/Berlin
BEGIN:DAYLIGHT
TZOFFSETFROM:+0100
TZOFFSETTO:+0200
TZNAME:CEST
DTSTART:19700329T020000
RRULE:FREQ=YEARLY;INTERVAL=1;BYDAY=-1SU;BYMONTH=3
END:DAYLIGHT
BEGIN:STANDARD
TZOFFSETFROM:+0200
TZOFFSETTO:+0100
TZNAME:CET
DTSTART:19701025T030000
RRULE:FREQ=YEARLY;INTERVAL=1;BYDAY=-1SU;BYMONTH=10
END:STANDARD
END:VTIMEZONE
BEGIN:VEVENT
UID:114088
CLASS:PUBLIC
SUMMARY:Forschungsdatenmanagement-Workshop
DTSTART;TZID=Europe/Berlin:20250514T090000
DTEND;TZID=Europe/Berlin:20250514T130000
DTSTAMP:20260420T1010Z
DESCRIPTION:Der Workshop findet auf Englisch statt. Eine Anmeldung ist erforderlich. Die Teilnehmeranzahl ist auf 20 begrenzt. \n
LOCATION:Zentrum für nachhaltiges Forschungsdatenmanagement, Monetastraße 4, 20146 Hamburg, 
END:VEVENT
END:VCALENDAR
