BEGIN:VCALENDAR
VERSION:2.0
PRODID:icalendar-ruby
CALSCALE:GREGORIAN
METHOD:PUBLISH
BEGIN:VEVENT
DTSTAMP:20260420T113554Z
UID:UHH_26036473_27356622
DTSTART:20260807T160000
DTEND:20260904T190000
LAST-MODIFIED:20260220T095608
LOCATION:Online
ORGANIZER:Sprachenzentrum
SUMMARY:Academic Writing Workshop (07.08. + 04.09.\, 4 PM - 7 PM) Online
END:VEVENT
END:VCALENDAR
