BEGIN:VCALENDAR
VERSION:2.0
PRODID:icalendar-ruby
CALSCALE:GREGORIAN
METHOD:PUBLISH
BEGIN:VEVENT
DTSTAMP:20260420T113555Z
UID:UHH_27275290_27279886
DTSTART:20260618T091500
DTEND:20260626T123000
LAST-MODIFIED:20260224T152415
LOCATION:Mittelweg 177\, N00075
ORGANIZER:Sprachenzentrum
SUMMARY:Skills Workshop Accents and Pronunciation Level B1+
END:VEVENT
END:VCALENDAR
