BEGIN:VCALENDAR
VERSION:2.0
PRODID:icalendar-ruby
CALSCALE:GREGORIAN
METHOD:PUBLISH
BEGIN:VEVENT
DTSTAMP:20260420T113554Z
UID:UHH_27275290_27276051
DTSTART:20260630T091500
DTEND:20260707T123000
LAST-MODIFIED:20260210T125908
LOCATION:Mittelweg 177\, N00065/67
ORGANIZER:Sprachenzentrum
SUMMARY:Skills Workshop Welcome Week English Level B1+
END:VEVENT
END:VCALENDAR
