BEGIN:VCALENDAR
VERSION:2.0
PRODID:icalendar-ruby
CALSCALE:GREGORIAN
METHOD:PUBLISH
BEGIN:VEVENT
DTSTAMP:20260420T113555Z
UID:UHH_27275290_27276024
DTSTART:20260519T091500
DTEND:20260521T123000
LAST-MODIFIED:20260210T125909
LOCATION:Mittelweg 177\, N00067
ORGANIZER:Sprachenzentrum
SUMMARY:Skills Workshop Writing Content in English Level B1+
END:VEVENT
END:VCALENDAR
