BEGIN:VCALENDAR
VERSION:2.0
PRODID:icalendar-ruby
CALSCALE:GREGORIAN
METHOD:PUBLISH
BEGIN:VEVENT
DTSTAMP:20260420T113555Z
UID:UHH_27275290_27275997
DTSTART:20260602T091500
DTEND:20260609T123000
LAST-MODIFIED:20260224T152416
LOCATION:Mittelweg 177\, N00065+N00073
ORGANIZER:Sprachenzentrum
SUMMARY:Skills Workshop Meeting English Level B1+
END:VEVENT
END:VCALENDAR
