BEGIN:VCALENDAR
VERSION:2.0
PRODID:icalendar-ruby
CALSCALE:GREGORIAN
METHOD:PUBLISH
BEGIN:VEVENT
DTSTAMP:20260420T113554Z
UID:UHH_27275290_27275310
DTSTART:20260428T091500
DTEND:20260430T123000
LAST-MODIFIED:20260224T152415
LOCATION:Online (zoom)
ORGANIZER:Sprachenzentrum
SUMMARY:Skills Workshop Email English Level B1+
END:VEVENT
END:VCALENDAR
