BEGIN:VCALENDAR
VERSION:2.0
PRODID:icalendar-ruby
CALSCALE:GREGORIAN
METHOD:PUBLISH
BEGIN:VEVENT
DTSTAMP:20260420T113555Z
UID:UHH_26036473_26036522
DTSTART:20260522T160000
DTEND:20260626T190000
LAST-MODIFIED:20260220T095532
LOCATION:Online
ORGANIZER:Sprachenzentrum
SUMMARY:Academic Writing Workshop (22.05.\, 26.06.\, 4 PM - 7 PM) Online
END:VEVENT
END:VCALENDAR
