BEGIN:VCALENDAR
VERSION:2.0
PRODID:icalendar-ruby
CALSCALE:GREGORIAN
METHOD:PUBLISH
BEGIN:VEVENT
DTSTAMP:20260420T113555Z
UID:UHH_27379186_27379242
DTSTART:20260331T180000
DTEND:20260331T200000
LAST-MODIFIED:20260325T114905
LOCATION:Universität Hamburg\, Philosophenturm Hörsaal F\, Von-Melle-Park
  6\, 20146 Hamburg
ORGANIZER:Abt. 2: Referat 23
SUMMARY:Vorlesung für alle Prof. Dr. Iris Kesternich\, Universität Hambur
 g\, Philosophenturm Hörsaal F\, Von-Melle-Park 6\, 20146 Hamburg
END:VEVENT
END:VCALENDAR
