BEGIN:VCALENDAR
X-LOTUS-CHARSET:UTF-8
VERSION:2.0
PRODID:-//unihamburg/mundry
METHOD:PUBLISH
BEGIN:VTIMEZONE
TZID:Europe/Berlin
X-LIC-LOCATION:Europe/Berlin
BEGIN:DAYLIGHT
TZOFFSETFROM:+0100
TZOFFSETTO:+0200
TZNAME:CEST
DTSTART:19700329T020000
RRULE:FREQ=YEARLY;INTERVAL=1;BYDAY=-1SU;BYMONTH=3
END:DAYLIGHT
BEGIN:STANDARD
TZOFFSETFROM:+0200
TZOFFSETTO:+0100
TZNAME:CET
DTSTART:19701025T030000
RRULE:FREQ=YEARLY;INTERVAL=1;BYDAY=-1SU;BYMONTH=10
END:STANDARD
END:VTIMEZONE
BEGIN:VEVENT
UID:121878
CLASS:PUBLIC
SUMMARY:Beratung für Studieninteressierte: Lehramt an berufsbildenden Schulen
DTSTART;TZID=Europe/Berlin:20251103T151500
DTEND;TZID=Europe/Berlin:20251103T171500
DTSTAMP:20260420T0242Z
DESCRIPTION:Sie interessieren sich für das Lehramtsstudium an berufsbildenden Schulen? Dann besuchen Sie diese Gruppenberatung (Anmeldung erforderlich).\nAn der Uni Hamburg bieten wir die beruflichen Fachrichtungen Wirtschaftswissenschaften, Chemietechnik, Ernährungs- und Haushaltswissenschaften, Gesundheitswissenschaften, Kosmetikwissenschaften und Gewerblich-Technische Wissenschafte (mit den Fachrichtungen Bautechnik, Holztechnik, Elektrotechnik/Informationstechnik, Medientechnik und Metalltechnik) an. Sollten Sie sich für die berufliche Fachrichtung Sozialpädagogik interessieren, schauen Sie bitte auf Hochschulkompass nach. Diese berufliche Fachrichtung wird an der Uni Hamburg nicht angeboten.\nDie Beratungen dauern ungefähr zwei Stunden. Wir beantworten im Rahmen der Gruppenberatungen gern Ihre individuellen Fragen. Gleichzeitig profitieren Sie auch von den Fragen der anderen Teilnehmer/innen.Weitere Informationen und den Kontakt für Ihre Anmeldung entnehmen Sie bitte der Website.\n
LOCATION:Campus-Center, Alsterterrasse 1, 20354 Hamburg, 4.OG
END:VEVENT
END:VCALENDAR
